Package: diggitdata Version: 1.42.0 Command: /home/biocbuild/bbs-3.22-bioc/R/bin/R CMD check --install=check:diggitdata.install-out.txt --library=/home/biocbuild/bbs-3.22-bioc/R/site-library --timings diggitdata_1.42.0.tar.gz StartedAt: 2025-11-18 12:43:32 -0500 (Tue, 18 Nov 2025) EndedAt: 2025-11-18 12:44:46 -0500 (Tue, 18 Nov 2025) EllapsedTime: 74.3 seconds RetCode: 0 Status: OK CheckDir: diggitdata.Rcheck Warnings: 0