Package: diggitdata Version: 1.42.0 Command: /home/biocbuild/bbs-3.22-bioc/R/bin/R CMD build --keep-empty-dirs --no-resave-data diggitdata StartedAt: 2025-11-18 11:22:06 -0500 (Tue, 18 Nov 2025) EndedAt: 2025-11-18 11:22:24 -0500 (Tue, 18 Nov 2025) EllapsedTime: 18.0 seconds RetCode: 0 Status: OK PackageFile: diggitdata_1.42.0.tar.gz PackageFileSize: 47.39 MiB