Package: davidTiling Version: 1.49.0 Command: /home/biocbuild/bbs-3.22-bioc/R/bin/R CMD check --install=check:davidTiling.install-out.txt --library=/home/biocbuild/bbs-3.22-bioc/R/site-library --timings davidTiling_1.49.0.tar.gz StartedAt: 2025-10-28 12:11:34 -0400 (Tue, 28 Oct 2025) EndedAt: 2025-10-28 12:15:47 -0400 (Tue, 28 Oct 2025) EllapsedTime: 253.2 seconds RetCode: 0 Status: WARNINGS CheckDir: davidTiling.Rcheck Warnings: 1