Package: curatedTCGAData Version: 1.31.3 Command: /home/biocbuild/bbs-3.22-bioc/R/bin/R CMD check --install=check:curatedTCGAData.install-out.txt --library=/home/biocbuild/bbs-3.22-bioc/R/site-library --timings curatedTCGAData_1.31.3.tar.gz StartedAt: 2025-10-28 12:10:42 -0400 (Tue, 28 Oct 2025) EndedAt: 2025-10-28 12:14:46 -0400 (Tue, 28 Oct 2025) EllapsedTime: 244.3 seconds RetCode: 0 Status: OK CheckDir: curatedTCGAData.Rcheck Warnings: 0