Package: curatedTCGAData Version: 1.30.0 Command: /home/biocbuild/bbs-3.21-bioc/R/bin/R CMD check --install=check:curatedTCGAData.install-out.txt --library=/home/biocbuild/bbs-3.21-bioc/R/site-library --timings curatedTCGAData_1.30.0.tar.gz StartedAt: 2025-10-16 12:08:05 -0400 (Thu, 16 Oct 2025) EndedAt: 2025-10-16 12:12:09 -0400 (Thu, 16 Oct 2025) EllapsedTime: 243.8 seconds RetCode: 0 Status: OK CheckDir: curatedTCGAData.Rcheck Warnings: 0