Package: curatedTBData Version: 2.4.0 Command: /home/biocbuild/bbs-3.21-bioc/R/bin/R CMD check --install=check:curatedTBData.install-out.txt --library=/home/biocbuild/bbs-3.21-bioc/R/site-library --timings curatedTBData_2.4.0.tar.gz StartedAt: 2025-10-16 12:08:02 -0400 (Thu, 16 Oct 2025) EndedAt: 2025-10-16 12:14:22 -0400 (Thu, 16 Oct 2025) EllapsedTime: 380.4 seconds RetCode: 0 Status: WARNINGS CheckDir: curatedTBData.Rcheck Warnings: 2