Package: curatedPCaData Version: 1.6.0 Command: /home/biocbuild/bbs-3.22-bioc/R/bin/R CMD INSTALL curatedPCaData StartedAt: 2025-10-30 11:01:37 -0400 (Thu, 30 Oct 2025) EndedAt: 2025-10-30 11:02:54 -0400 (Thu, 30 Oct 2025) EllapsedTime: 77.4 seconds RetCode: 0 Status: OK