Package: curatedPCaData Version: 1.6.0 Command: /home/biocbuild/bbs-3.22-bioc/R/bin/R CMD build --keep-empty-dirs --no-resave-data curatedPCaData StartedAt: 2025-10-30 11:17:59 -0400 (Thu, 30 Oct 2025) EndedAt: 2025-10-30 11:26:26 -0400 (Thu, 30 Oct 2025) EllapsedTime: 506.7 seconds RetCode: 0 Status: OK PackageFile: curatedPCaData_1.6.0.tar.gz PackageFileSize: 2.936 MiB