Package: curatedOvarianData Version: 1.47.2 Command: /home/biocbuild/bbs-3.22-bioc/R/bin/R CMD check --install=check:curatedOvarianData.install-out.txt --library=/home/biocbuild/bbs-3.22-bioc/R/site-library --timings curatedOvarianData_1.47.2.tar.gz StartedAt: 2025-10-28 12:09:45 -0400 (Tue, 28 Oct 2025) EndedAt: 2025-10-28 12:15:05 -0400 (Tue, 28 Oct 2025) EllapsedTime: 320.7 seconds RetCode: 0 Status: OK CheckDir: curatedOvarianData.Rcheck Warnings: 0