Package: curatedBreastData Version: 2.38.0 Command: /home/biocbuild/bbs-3.22-bioc/R/bin/R CMD check --install=check:curatedBreastData.install-out.txt --library=/home/biocbuild/bbs-3.22-bioc/R/site-library --timings curatedBreastData_2.38.0.tar.gz StartedAt: 2025-11-04 12:10:41 -0500 (Tue, 04 Nov 2025) EndedAt: 2025-11-04 12:17:38 -0500 (Tue, 04 Nov 2025) EllapsedTime: 417.1 seconds RetCode: 0 Status: OK CheckDir: curatedBreastData.Rcheck Warnings: 0