Package: curatedBreastData Version: 2.38.0 Command: /home/biocbuild/bbs-3.22-bioc/R/bin/R CMD build --keep-empty-dirs --no-resave-data curatedBreastData StartedAt: 2025-11-04 11:13:59 -0500 (Tue, 04 Nov 2025) EndedAt: 2025-11-04 11:15:38 -0500 (Tue, 04 Nov 2025) EllapsedTime: 98.6 seconds RetCode: 0 Status: OK PackageFile: curatedBreastData_2.38.0.tar.gz PackageFileSize: 283.1 MiB