Package: curatedBreastData Version: 2.36.0 Command: /home/biocbuild/bbs-3.21-bioc/R/bin/R CMD check --install=check:curatedBreastData.install-out.txt --library=/home/biocbuild/bbs-3.21-bioc/R/site-library --timings curatedBreastData_2.36.0.tar.gz StartedAt: 2025-10-16 12:06:59 -0400 (Thu, 16 Oct 2025) EndedAt: 2025-10-16 12:14:01 -0400 (Thu, 16 Oct 2025) EllapsedTime: 421.3 seconds RetCode: 0 Status: OK CheckDir: curatedBreastData.Rcheck Warnings: 0