Package: curatedAdipoRNA Version: 1.26.0 Command: /home/biocbuild/bbs-3.22-bioc/R/bin/R CMD check --install=check:curatedAdipoRNA.install-out.txt --library=/home/biocbuild/bbs-3.22-bioc/R/site-library --timings curatedAdipoRNA_1.26.0.tar.gz StartedAt: 2025-11-04 12:10:29 -0500 (Tue, 04 Nov 2025) EndedAt: 2025-11-04 12:12:47 -0500 (Tue, 04 Nov 2025) EllapsedTime: 137.6 seconds RetCode: 0 Status: WARNINGS CheckDir: curatedAdipoRNA.Rcheck Warnings: 1