Package: curatedAdipoChIP Version: 1.26.0 Command: /home/biocbuild/bbs-3.22-bioc/R/bin/R CMD INSTALL curatedAdipoChIP StartedAt: 2025-11-04 11:00:45 -0500 (Tue, 04 Nov 2025) EndedAt: 2025-11-04 11:01:14 -0500 (Tue, 04 Nov 2025) EllapsedTime: 29.3 seconds RetCode: 0 Status: OK