Package: curatedAdipoChIP Version: 1.26.0 Command: /home/biocbuild/bbs-3.22-bioc/R/bin/R CMD check --install=check:curatedAdipoChIP.install-out.txt --library=/home/biocbuild/bbs-3.22-bioc/R/site-library --timings curatedAdipoChIP_1.26.0.tar.gz StartedAt: 2025-11-04 12:10:27 -0500 (Tue, 04 Nov 2025) EndedAt: 2025-11-04 12:14:36 -0500 (Tue, 04 Nov 2025) EllapsedTime: 248.7 seconds RetCode: 0 Status: OK CheckDir: curatedAdipoChIP.Rcheck Warnings: 0