Package: curatedAdipoChIP Version: 1.24.0 Command: /home/biocbuild/bbs-3.21-bioc/R/bin/R CMD check --install=check:curatedAdipoChIP.install-out.txt --library=/home/biocbuild/bbs-3.21-bioc/R/site-library --timings curatedAdipoChIP_1.24.0.tar.gz StartedAt: 2025-09-30 12:06:33 -0400 (Tue, 30 Sep 2025) EndedAt: 2025-09-30 12:10:42 -0400 (Tue, 30 Sep 2025) EllapsedTime: 248.8 seconds RetCode: 0 Status: OK CheckDir: curatedAdipoChIP.Rcheck Warnings: 0