Package: curatedAdipoArray Version: 1.22.0 Command: /home/biocbuild/bbs-3.22-bioc/R/bin/R CMD INSTALL curatedAdipoArray StartedAt: 2025-11-18 10:55:18 -0500 (Tue, 18 Nov 2025) EndedAt: 2025-11-18 10:55:20 -0500 (Tue, 18 Nov 2025) EllapsedTime: 1.6 seconds RetCode: 0 Status: OK