Package: curatedAdipoArray Version: 1.22.0 Command: /home/biocbuild/bbs-3.22-bioc/R/bin/R CMD check --install=check:curatedAdipoArray.install-out.txt --library=/home/biocbuild/bbs-3.22-bioc/R/site-library --timings curatedAdipoArray_1.22.0.tar.gz StartedAt: 2025-11-18 12:38:55 -0500 (Tue, 18 Nov 2025) EndedAt: 2025-11-18 12:39:28 -0500 (Tue, 18 Nov 2025) EllapsedTime: 32.6 seconds RetCode: 0 Status: OK CheckDir: curatedAdipoArray.Rcheck Warnings: 0