Package: crisprScoreData Version: 1.13.0 Command: /home/biocbuild/bbs-3.22-bioc/R/bin/R CMD check --install=check:crisprScoreData.install-out.txt --library=/home/biocbuild/bbs-3.22-bioc/R/site-library --timings crisprScoreData_1.13.0.tar.gz StartedAt: 2025-10-28 12:08:57 -0400 (Tue, 28 Oct 2025) EndedAt: 2025-10-28 12:10:52 -0400 (Tue, 28 Oct 2025) EllapsedTime: 114.6 seconds RetCode: 0 Status: OK CheckDir: crisprScoreData.Rcheck Warnings: 0