Package: colonCA Version: 1.52.0 Command: /home/biocbuild/bbs-3.22-bioc/R/bin/R CMD check --install=check:colonCA.install-out.txt --library=/home/biocbuild/bbs-3.22-bioc/R/site-library --timings colonCA_1.52.0.tar.gz StartedAt: 2025-11-06 12:08:11 -0500 (Thu, 06 Nov 2025) EndedAt: 2025-11-06 12:08:27 -0500 (Thu, 06 Nov 2025) EllapsedTime: 16.6 seconds RetCode: 0 Status: WARNINGS CheckDir: colonCA.Rcheck Warnings: 1