Package: colonCA Version: 1.52.0 Command: /home/biocbuild/bbs-3.22-bioc/R/bin/R CMD build --keep-empty-dirs --no-resave-data colonCA StartedAt: 2025-11-06 11:11:09 -0500 (Thu, 06 Nov 2025) EndedAt: 2025-11-06 11:11:10 -0500 (Thu, 06 Nov 2025) EllapsedTime: 1.0 seconds RetCode: 0 Status: OK PackageFile: colonCA_1.52.0.tar.gz PackageFileSize: 783.3 KiB