Package: colonCA Version: 1.50.0 Command: /home/biocbuild/bbs-3.21-bioc/R/bin/R CMD INSTALL colonCA StartedAt: 2025-10-16 10:56:28 -0400 (Thu, 16 Oct 2025) EndedAt: 2025-10-16 10:56:31 -0400 (Thu, 16 Oct 2025) EllapsedTime: 3.4 seconds RetCode: 0 Status: OK