Package: colonCA Version: 1.50.0 Command: /home/biocbuild/bbs-3.21-bioc/R/bin/R CMD build --keep-empty-dirs --no-resave-data colonCA StartedAt: 2025-10-16 11:09:54 -0400 (Thu, 16 Oct 2025) EndedAt: 2025-10-16 11:09:56 -0400 (Thu, 16 Oct 2025) EllapsedTime: 1.6 seconds RetCode: 0 Status: OK PackageFile: colonCA_1.50.0.tar.gz PackageFileSize: 783.3 KiB