Package: cnvGSAdata Version: 1.46.0 Command: /home/biocbuild/bbs-3.22-bioc/R/bin/R CMD INSTALL cnvGSAdata StartedAt: 2025-11-04 10:58:05 -0500 (Tue, 04 Nov 2025) EndedAt: 2025-11-04 10:58:11 -0500 (Tue, 04 Nov 2025) EllapsedTime: 5.5 seconds RetCode: 0 Status: OK