Package: cnvGSAdata Version: 1.46.0 Command: /home/biocbuild/bbs-3.22-bioc/R/bin/R CMD build --keep-empty-dirs --no-resave-data cnvGSAdata StartedAt: 2025-11-04 11:12:55 -0500 (Tue, 04 Nov 2025) EndedAt: 2025-11-04 11:12:57 -0500 (Tue, 04 Nov 2025) EllapsedTime: 2.0 seconds RetCode: 0 Status: OK PackageFile: cnvGSAdata_1.46.0.tar.gz PackageFileSize: 6.235 MiB