Package: clustifyrdatahub Version: 1.20.0 Command: /home/biocbuild/bbs-3.22-bioc/R/bin/R CMD INSTALL clustifyrdatahub StartedAt: 2025-10-30 10:58:12 -0400 (Thu, 30 Oct 2025) EndedAt: 2025-10-30 10:58:30 -0400 (Thu, 30 Oct 2025) EllapsedTime: 18.2 seconds RetCode: 0 Status: OK