Package: chromstaRData Version: 1.36.0 Command: /home/biocbuild/bbs-3.22-bioc/R/bin/R CMD build --keep-empty-dirs --no-resave-data chromstaRData StartedAt: 2025-10-30 11:15:14 -0400 (Thu, 30 Oct 2025) EndedAt: 2025-10-30 11:15:26 -0400 (Thu, 30 Oct 2025) EllapsedTime: 11.7 seconds RetCode: 0 Status: OK PackageFile: chromstaRData_1.36.0.tar.gz PackageFileSize: 140.2 MiB