Package: chipseqDBData Version: 1.26.0 Command: /home/biocbuild/bbs-3.22-bioc/R/bin/R CMD INSTALL chipseqDBData StartedAt: 2025-10-30 11:03:23 -0400 (Thu, 30 Oct 2025) EndedAt: 2025-10-30 11:03:42 -0400 (Thu, 30 Oct 2025) EllapsedTime: 19.1 seconds RetCode: 0 Status: OK