Package: chipseqDBData Version: 1.26.0 Command: /home/biocbuild/bbs-3.22-bioc/R/bin/R CMD build --keep-empty-dirs --no-resave-data chipseqDBData StartedAt: 2025-10-30 11:14:53 -0400 (Thu, 30 Oct 2025) EndedAt: 2025-10-30 11:16:16 -0400 (Thu, 30 Oct 2025) EllapsedTime: 82.9 seconds RetCode: 0 Status: OK PackageFile: chipseqDBData_1.26.0.tar.gz PackageFileSize: 300.8 KiB