Package: chipenrich.data Version: 2.34.0 Command: /home/biocbuild/bbs-3.22-bioc/R/bin/R CMD check --install=check:chipenrich.data.install-out.txt --library=/home/biocbuild/bbs-3.22-bioc/R/site-library --timings chipenrich.data_2.34.0.tar.gz StartedAt: 2025-11-20 12:16:18 -0500 (Thu, 20 Nov 2025) EndedAt: 2025-11-20 12:21:26 -0500 (Thu, 20 Nov 2025) EllapsedTime: 308.2 seconds RetCode: 0 Status: WARNINGS CheckDir: chipenrich.data.Rcheck Warnings: 3