Package: chipenrich.data Version: 2.34.0 Command: /home/biocbuild/bbs-3.22-bioc/R/bin/R CMD build --keep-empty-dirs --no-resave-data chipenrich.data StartedAt: 2025-11-04 11:11:44 -0500 (Tue, 04 Nov 2025) EndedAt: 2025-11-04 11:13:46 -0500 (Tue, 04 Nov 2025) EllapsedTime: 121.5 seconds RetCode: 0 Status: OK PackageFile: chipenrich.data_2.34.0.tar.gz PackageFileSize: 106.3 MiB