Package: cfToolsData Version: 1.8.0 Command: /home/biocbuild/bbs-3.22-bioc/R/bin/R CMD INSTALL cfToolsData StartedAt: 2025-11-04 10:57:19 -0500 (Tue, 04 Nov 2025) EndedAt: 2025-11-04 10:57:33 -0500 (Tue, 04 Nov 2025) EllapsedTime: 14.1 seconds RetCode: 0 Status: OK