Package: cfToolsData Version: 1.8.0 Command: /home/biocbuild/bbs-3.22-bioc/R/bin/R CMD build --keep-empty-dirs --no-resave-data cfToolsData StartedAt: 2025-11-04 11:11:33 -0500 (Tue, 04 Nov 2025) EndedAt: 2025-11-04 11:12:02 -0500 (Tue, 04 Nov 2025) EllapsedTime: 28.5 seconds RetCode: 0 Status: OK PackageFile: cfToolsData_1.8.0.tar.gz PackageFileSize: 413 KiB