Package: celldex Version: 1.20.0 Command: /home/biocbuild/bbs-3.22-bioc/R/bin/R CMD build --keep-empty-dirs --no-resave-data celldex StartedAt: 2025-10-30 11:13:31 -0400 (Thu, 30 Oct 2025) EndedAt: 2025-10-30 11:14:34 -0400 (Thu, 30 Oct 2025) EllapsedTime: 62.9 seconds RetCode: 0 Status: OK PackageFile: celldex_1.20.0.tar.gz PackageFileSize: 402.6 KiB