Package: celarefData Version: 1.28.0 Command: /home/biocbuild/bbs-3.22-bioc/R/bin/R CMD check --install=check:celarefData.install-out.txt --library=/home/biocbuild/bbs-3.22-bioc/R/site-library --timings celarefData_1.28.0.tar.gz StartedAt: 2025-11-04 12:05:03 -0500 (Tue, 04 Nov 2025) EndedAt: 2025-11-04 12:05:42 -0500 (Tue, 04 Nov 2025) EllapsedTime: 39.6 seconds RetCode: 0 Status: OK CheckDir: celarefData.Rcheck Warnings: 0