Package: celarefData Version: 1.28.0 Command: /home/biocbuild/bbs-3.22-bioc/R/bin/R CMD build --keep-empty-dirs --no-resave-data celarefData StartedAt: 2025-11-04 11:10:22 -0500 (Tue, 04 Nov 2025) EndedAt: 2025-11-04 11:11:49 -0500 (Tue, 04 Nov 2025) EllapsedTime: 87.6 seconds RetCode: 0 Status: OK PackageFile: celarefData_1.28.0.tar.gz PackageFileSize: 231.4 KiB