Package: celarefData Version: 1.26.0 Command: /home/biocbuild/bbs-3.21-bioc/R/bin/R CMD check --install=check:celarefData.install-out.txt --library=/home/biocbuild/bbs-3.21-bioc/R/site-library --timings celarefData_1.26.0.tar.gz StartedAt: 2025-10-16 12:01:35 -0400 (Thu, 16 Oct 2025) EndedAt: 2025-10-16 12:02:15 -0400 (Thu, 16 Oct 2025) EllapsedTime: 39.3 seconds RetCode: 0 Status: OK CheckDir: celarefData.Rcheck Warnings: 0