Package: ccdata Version: 1.36.0 Command: /home/biocbuild/bbs-3.22-bioc/R/bin/R CMD check --install=check:ccdata.install-out.txt --library=/home/biocbuild/bbs-3.22-bioc/R/site-library --timings ccdata_1.36.0.tar.gz StartedAt: 2025-11-04 12:04:46 -0500 (Tue, 04 Nov 2025) EndedAt: 2025-11-04 12:08:18 -0500 (Tue, 04 Nov 2025) EllapsedTime: 212.5 seconds RetCode: 0 Status: WARNINGS CheckDir: ccdata.Rcheck Warnings: 1