Package: bugphyzz Version: 1.4.0 Command: /home/biocbuild/bbs-3.22-bioc/R/bin/R CMD INSTALL bugphyzz StartedAt: 2025-10-30 10:57:09 -0400 (Thu, 30 Oct 2025) EndedAt: 2025-10-30 10:57:13 -0400 (Thu, 30 Oct 2025) EllapsedTime: 3.3 seconds RetCode: 0 Status: OK