Package: bugphyzz Version: 1.4.0 Command: /home/biocbuild/bbs-3.22-bioc/R/bin/R CMD check --install=check:bugphyzz.install-out.txt --library=/home/biocbuild/bbs-3.22-bioc/R/site-library --timings bugphyzz_1.4.0.tar.gz StartedAt: 2025-11-04 12:04:31 -0500 (Tue, 04 Nov 2025) EndedAt: 2025-11-04 12:12:47 -0500 (Tue, 04 Nov 2025) EllapsedTime: 495.5 seconds RetCode: 0 Status: OK CheckDir: bugphyzz.Rcheck Warnings: 0