Package: bugphyzz Version: 1.4.0 Command: /home/biocbuild/bbs-3.22-bioc/R/bin/R CMD build --keep-empty-dirs --no-resave-data bugphyzz StartedAt: 2025-10-30 11:13:11 -0400 (Thu, 30 Oct 2025) EndedAt: 2025-10-30 11:16:08 -0400 (Thu, 30 Oct 2025) EllapsedTime: 177.4 seconds RetCode: 0 Status: OK PackageFile: bugphyzz_1.4.0.tar.gz PackageFileSize: 887.6 KiB