Package: bugphyzz Version: 1.2.0 Command: /home/biocbuild/bbs-3.21-bioc/R/bin/R CMD check --install=check:bugphyzz.install-out.txt --library=/home/biocbuild/bbs-3.21-bioc/R/site-library --timings bugphyzz_1.2.0.tar.gz StartedAt: 2025-10-16 12:01:01 -0400 (Thu, 16 Oct 2025) EndedAt: 2025-10-16 12:08:59 -0400 (Thu, 16 Oct 2025) EllapsedTime: 477.8 seconds RetCode: 0 Status: OK CheckDir: bugphyzz.Rcheck Warnings: 0