Package: bsseqData Version: 0.48.0 Command: /home/biocbuild/bbs-3.22-bioc/R/bin/R CMD build --keep-empty-dirs --no-resave-data bsseqData StartedAt: 2025-10-30 11:13:09 -0400 (Thu, 30 Oct 2025) EndedAt: 2025-10-30 11:13:18 -0400 (Thu, 30 Oct 2025) EllapsedTime: 8.9 seconds RetCode: 0 Status: OK PackageFile: bsseqData_0.48.0.tar.gz PackageFileSize: 127.7 MiB