Package: brgedata Version: 1.32.0 Command: /home/biocbuild/bbs-3.22-bioc/R/bin/R CMD INSTALL brgedata StartedAt: 2025-11-04 10:58:15 -0500 (Tue, 04 Nov 2025) EndedAt: 2025-11-04 10:59:22 -0500 (Tue, 04 Nov 2025) EllapsedTime: 67.2 seconds RetCode: 0 Status: OK