Package: brgedata Version: 1.30.0 Command: /home/biocbuild/bbs-3.21-bioc/R/bin/R CMD INSTALL brgedata StartedAt: 2025-10-07 10:58:45 -0400 (Tue, 07 Oct 2025) EndedAt: 2025-10-07 10:59:51 -0400 (Tue, 07 Oct 2025) EllapsedTime: 65.7 seconds RetCode: 0 Status: OK