Package: brgedata Version: 1.30.0 Command: /home/biocbuild/bbs-3.21-bioc/R/bin/R CMD build --keep-empty-dirs --no-resave-data brgedata StartedAt: 2025-10-07 11:07:16 -0400 (Tue, 07 Oct 2025) EndedAt: 2025-10-07 11:11:18 -0400 (Tue, 07 Oct 2025) EllapsedTime: 242.3 seconds RetCode: 0 Status: OK PackageFile: brgedata_1.30.0.tar.gz PackageFileSize: 297 MiB