Package: breastCancerVDX Version: 1.48.0 Command: /home/biocbuild/bbs-3.22-bioc/R/bin/R CMD check --install=check:breastCancerVDX.install-out.txt --library=/home/biocbuild/bbs-3.22-bioc/R/site-library --timings breastCancerVDX_1.48.0.tar.gz StartedAt: 2025-11-06 12:03:33 -0500 (Thu, 06 Nov 2025) EndedAt: 2025-11-06 12:04:53 -0500 (Thu, 06 Nov 2025) EllapsedTime: 79.9 seconds RetCode: 0 Status: WARNINGS CheckDir: breastCancerVDX.Rcheck Warnings: 1