Package: breastCancerVDX Version: 1.48.0 Command: /home/biocbuild/bbs-3.22-bioc/R/bin/R CMD build --keep-empty-dirs --no-resave-data breastCancerVDX StartedAt: 2025-10-30 11:13:04 -0400 (Thu, 30 Oct 2025) EndedAt: 2025-10-30 11:13:09 -0400 (Thu, 30 Oct 2025) EllapsedTime: 4.8 seconds RetCode: 0 Status: OK PackageFile: breastCancerVDX_1.48.0.tar.gz PackageFileSize: 39.52 MiB