Package: breastCancerUNT Version: 1.46.0 Command: /home/biocbuild/bbs-3.21-bioc/R/bin/R CMD INSTALL breastCancerUNT StartedAt: 2025-10-09 10:55:44 -0400 (Thu, 09 Oct 2025) EndedAt: 2025-10-09 10:55:47 -0400 (Thu, 09 Oct 2025) EllapsedTime: 2.9 seconds RetCode: 0 Status: OK