Package: breastCancerUNT Version: 1.46.0 Command: /home/biocbuild/bbs-3.21-bioc/R/bin/R CMD build --keep-empty-dirs --no-resave-data breastCancerUNT StartedAt: 2025-10-09 11:07:18 -0400 (Thu, 09 Oct 2025) EndedAt: 2025-10-09 11:07:22 -0400 (Thu, 09 Oct 2025) EllapsedTime: 4.9 seconds RetCode: 0 Status: OK PackageFile: breastCancerUNT_1.46.0.tar.gz PackageFileSize: 48.32 MiB